BEGIN:VCALENDAR
VERSION:2.0
PRODID:-//Squarespace Inc/Squarespace 6//v6//EN
BEGIN:VEVENT
UID:5c919276ee6eb0570b34571d@squarespace.com
DTSTAMP:20190320T010830Z
DTSTART:20191211T000000Z
DTEND:20191211T010000Z
SUMMARY:Canterbury TC Exercise Grading
END:VEVENT
END:VCALENDAR
