BEGIN:VCALENDAR
VERSION:2.0
PRODID:-//Squarespace Inc/Squarespace 6//v6//EN
BEGIN:VEVENT
UID:5c9191ad971a1827dbc7c1ff@squarespace.com
DTSTAMP:20190320T010514Z
DTSTART:20191109T180000Z
DTEND:20191109T220000Z
SUMMARY:Wellington KF Grading and Seminar
END:VEVENT
END:VCALENDAR
