BEGIN:VCALENDAR
VERSION:2.0
PRODID:-//Squarespace Inc/Squarespace 6//v6//EN
BEGIN:VEVENT
UID:5c9192331905f46d877f7cf5@squarespace.com
DTSTAMP:20190320T010750Z
DTSTART:20191130T150000Z
DTEND:20191201T043000Z
SUMMARY:Annual BB Grading and Awards
END:VEVENT
END:VCALENDAR
