BEGIN:VCALENDAR
VERSION:2.0
PRODID:-//Squarespace Inc/Squarespace 6//v6//EN
BEGIN:VEVENT
UID:5c9192031905f46d877f7b58@squarespace.com
DTSTAMP:20190320T010647Z
DTSTART:20191129T223000Z
DTEND:20191130T013000Z
SUMMARY:Annual BB and TC Instructors Meeting
END:VEVENT
END:VCALENDAR
