BEGIN:VCALENDAR
VERSION:2.0
PRODID:-//Squarespace Inc/Squarespace 6//v6//EN
BEGIN:VEVENT
UID:5c91914f9140b7d5faf3ede4@squarespace.com
DTSTAMP:20190320T010345Z
DTSTART:20191102T170000Z
DTEND:20191102T210000Z
SUMMARY:Dunedin KF Grading and Seminar
END:VEVENT
END:VCALENDAR
