BEGIN:VCALENDAR
VERSION:2.0
PRODID:-//Squarespace Inc/Squarespace 6//v6//EN
BEGIN:VEVENT
UID:5c9191d59140b7d5faf3f5ad@squarespace.com
DTSTAMP:20190320T010557Z
DTSTART:20191110T140000Z
DTEND:20191110T170000Z
SUMMARY:Wellington TC Ex Grading and Seminar
END:VEVENT
END:VCALENDAR
