BEGIN:VCALENDAR
VERSION:2.0
PRODID:-//Squarespace Inc/Squarespace 6//v6//EN
BEGIN:VEVENT
UID:5c9190eab208fc477036cbaf@squarespace.com
DTSTAMP:20190320T010206Z
DTSTART:20191005T130000Z
DTEND:20191005T190000Z
SUMMARY:Canterbury KF Grading
END:VEVENT
END:VCALENDAR
