BEGIN:VCALENDAR
VERSION:2.0
PRODID:-//Squarespace Inc/Squarespace 6//v6//EN
BEGIN:VEVENT
UID:5c91912115fcc025591a9b7e@squarespace.com
DTSTAMP:20190320T010259Z
DTSTART:20191012T133000Z
DTEND:20191027T023000Z
SUMMARY:SOTC China Trip
END:VEVENT
END:VCALENDAR
