BEGIN:VCALENDAR
VERSION:2.0
PRODID:-//Squarespace Inc/Squarespace 6//v6//EN
BEGIN:VEVENT
UID:5c9190c88165f5b9be0d1ec9@squarespace.com
DTSTAMP:20190320T010120Z
DTSTART:20191001T230000Z
DTEND:20191002T000000Z
SUMMARY:Canterbury TC Exercise Grading
END:VEVENT
END:VCALENDAR
